BEGIN:VCALENDAR
VERSION:2.0
PRODID:-//Global Defender - Federkravmaga - ECPv5.9.2//NONSGML v1.0//EN
CALSCALE:GREGORIAN
METHOD:PUBLISH
X-WR-CALNAME:Global Defender - Federkravmaga
X-ORIGINAL-URL:https://www.federkravmaga.com
X-WR-CALDESC:Eventi per Global Defender - Federkravmaga
BEGIN:VTIMEZONE
TZID:UTC
BEGIN:STANDARD
TZOFFSETFROM:+0000
TZOFFSETTO:+0000
TZNAME:UTC
DTSTART:20220101T000000
END:STANDARD
END:VTIMEZONE
BEGIN:VEVENT
DTSTART;TZID=UTC:20220912T153000
DTEND;TZID=UTC:20221201T190000
DTSTAMP:20260419T170629
CREATED:20140310T192109Z
LAST-MODIFIED:20230107T155207Z
UID:3792-1662996600-1669921200@www.federkravmaga.com
SUMMARY:SETTEMBRE 2022 RIPRENDONO LE ATTIVITA' DEI NOSTRI SETTORI DI ARTI MARZIALI & DIFESA PERSONALE.... Krav Maga - Jiu Jitsu - Kapap - JKD Kung Fu - Karate - Kickboxing
DESCRIPTION:SETTEMBRE 2022 RIPRENDONO NELLE NOSTRE SEDI SUL TERRITORIO NAZIONALE LE ATTIVITA’ SPORTIVE DEI NOSTRI SETTORI\n\nSETTORE ARTI MARZIALI DISCIPLINE :\nKUNG FU – SETTORE JEET KUNE DO : SEMINARI – SPECIALIZZAZIONI\nDOCENTI :\nM° Alessandro Del Pia ( Certificato  ASI Eps CONI )\nM° Vincenzo Pirolozzi ( Certificato OPES Eps CONI )\nKARATE : SEMINARI – KATA – SPECIALIZZAZIONI\nDOCENTI :\nM° Gustavo Cagiano ( Certificato CSEIN Eps CONI – Fesik )\nM° Alessandro Del Pia ( Certificato ASI Eps CONI )\nKICKBOXING : PREPARAZIONE GARE INTERSTILE REGIONI LAZIO E SICILIA \nM° Marco Palumbo ( Certificato ASI Eps CONI)\nM° Alessandro Del Pia ( Certificato ASI Eps CONI)\nPER INFO . info@global-defender.com\n  \n  \n 
URL:https://www.federkravmaga.com/event/merate-lc-28-marzo-stage-internazionale-krav-maga-maor-diretto-dal-m-amnon-maor-israele/
CATEGORIES:Corsi,Eventi,Stage
END:VEVENT
END:VCALENDAR