BEGIN:VCALENDAR
VERSION:2.0
PRODID:-//Global Defender - Federkravmaga - ECPv5.9.2//NONSGML v1.0//EN
CALSCALE:GREGORIAN
METHOD:PUBLISH
X-WR-CALNAME:Global Defender - Federkravmaga
X-ORIGINAL-URL:https://www.federkravmaga.com
X-WR-CALDESC:Eventi per Global Defender - Federkravmaga
BEGIN:VTIMEZONE
TZID:UTC
BEGIN:STANDARD
TZOFFSETFROM:+0000
TZOFFSETTO:+0000
TZNAME:UTC
DTSTART:20240101T000000
END:STANDARD
END:VTIMEZONE
BEGIN:VEVENT
DTSTART;VALUE=DATE:20240701
DTEND;VALUE=DATE:20270111
DTSTAMP:20260423T111833
CREATED:20160125T181710Z
LAST-MODIFIED:20260403T170432Z
UID:4159-1719792000-1799625599@www.federkravmaga.com
SUMMARY:APRILE 2026 SETTORE FEDERKRAVMAGA ITALIA - ENDAS ITALIA  DATE - LOCATION ITALIA NORD - CENTRO - SUD - ISOLE 2025-2026 : Corsi Istruttore - Verifiche Tecniche - Aggiornamenti Tecnici
DESCRIPTION:  \nSSD GLOBAL DEFENDER SPORT & SECURITY SRL\nANNO SPORTIVO 2025 – 2026\nSETTORE SPORTIVO : FEDERKRAVMAGA ITALIA \nCORSI DI FORMAZIONE ISTRUTTORE  AGGIORNAMENTI ISTRUTTORI \nAPRILE 2026\n8° APPUNTAMENTO ANNO SPORTIVO 2025 – 2026\n( 1 SETTEMBRE 2025 – 31 AGOSTO 2026 ) \n________________________________________________\nNORD ITALIA\nLombardia – Friuli V. Giulia – Emilia R. – Veneto – Liguria\n+ VERONA 19 APRILE\n+ GENOVA 18 APRILE\n(INTERA GIORNATA)  \n  \nCENTRO ITALIA \nAbruzzo – Toscana – Lazio – Campania\n+ ROMA 18 APRILE 2026\n\n + POGGIOMARINO (NA)\n18 APRILE 2026\n(SOLO MATTINA) \n  \nSUD ITALIA\nCalabria – Puglia – Basilicata\n+ SIDERNO (RC) 18 APRILE  2026\n(INTERA GIORNATA)\n+ BARI  11 – 18 APRILE 2026\n( INTERA GIORNATA )\n\n  \nISOLE SICILIA – SARDEGNA\n+ SICILIA : PALERMO 19 APRILE 2026\n(INTERA GIORNATA) \n\n+ SARDEGNA : CARBONIA 19 APRILE  2026\n(INTERA GIORNATA) \n \n_______________________________________________________ \nPER TUTTI I NOSTRI TECNICI CERTIFICATI OGNI MESE NELLE\nVARIE REGIONI E PROVINCE : \nVERIFICHE  DEI PROGRAMMI SVOLTI E IN SVOLGIMENTO\nAGGIORNAMENTI ISTRUTTORI PER TUTTI I LIVELLI TECNICI\nSPECIALIZZAZIONI NAZIONALI E INTERNAZIONALI\nSEMINARI NAZIONALI E INTERNAZIONALI\nDirezione Tecnica :\nCorpo Docente Nazionale Federkravmaga Italia\ncon certificazioni :\nFEDERKRAVMAGA – Federazione Krav Maga Italia\nWKMF – World Krav Maga Federation\nENDAS ITALIA Ente di promozione Sportiva del CONI SPORT e SALUTE\n\nPER  INFO \ninfo@federkravmaga.it
URL:https://www.federkravmaga.com/event/4159/
CATEGORIES:Corsi,Eventi,Stage
END:VEVENT
END:VCALENDAR